BEGIN:VCALENDAR
VERSION:2.0
PRODID:-//jEvents 2.0 for Joomla//EN
CALSCALE:GREGORIAN
METHOD:PUBLISH
BEGIN:VEVENT
UID:e5efeb490a4f0943fa4783e3763d2539
CATEGORIES:Default Category
SUMMARY:YAM Jam Cancelled
DESCRIPTION;ENCODING=QUOTED-PRINTABLE:
DTSTAMP:20260422T113408Z
DTSTART:20260626T190000Z
SEQUENCE:0
TRANSP:OPAQUE
END:VEVENT
END:VCALENDAR