BEGIN:VCALENDAR
VERSION:2.0
PRODID:-//jEvents 2.0 for Joomla//EN
CALSCALE:GREGORIAN
METHOD:PUBLISH
BEGIN:VEVENT
UID:5e8ea4ae2d6220232e8b472912c2a8e7
CATEGORIES:Default Category
SUMMARY:CANCELLED- Prophetic, Healing, & Deliverance
DESCRIPTION;ENCODING=QUOTED-PRINTABLE:
DTSTAMP:20260422T095959Z
DTSTART:20260410T193000Z
SEQUENCE:0
TRANSP:OPAQUE
END:VEVENT
END:VCALENDAR