BEGIN:VCALENDAR
VERSION:2.0
PRODID:-//jEvents 2.0 for Joomla//EN
CALSCALE:GREGORIAN
METHOD:PUBLISH
BEGIN:VEVENT
UID:5e8ea4ae2d6220232e8b472912c2a8e7
CATEGORIES:Default Category
SUMMARY:CANCELLED- Prophetic, Healing, & Deliverance
DESCRIPTION;ENCODING=QUOTED-PRINTABLE:
DTSTAMP:20260422T100057Z
DTSTART:20180413T193000Z
SEQUENCE:0
RRULE:FREQ=MONTHLY;COUNT=9999;INTERVAL=1;BYDAY=+2FR
EXDATE:20200214T193000Z
TRANSP:OPAQUE
END:VEVENT
BEGIN:VEVENT
UID:5e8ea4ae2d6220232e8b472912c2a8e7
CATEGORIES:Default Category
SUMMARY:Virtual - Prophetic, Healing, & Deliverance
DESCRIPTION;ENCODING=QUOTED-PRINTABLE:

DTSTAMP:20260422T100057Z
DTSTART:20210312T190000Z
DTEND:20210312T150000Z
RECURRENCE-ID:20210312T193000Z
SEQUENCE:0
TRANSP:OPAQUE
END:VEVENT
BEGIN:VEVENT
UID:5e8ea4ae2d6220232e8b472912c2a8e7
CATEGORIES:Default Category
SUMMARY:Prophetic, Healing, & Deliverance
DESCRIPTION;ENCODING=QUOTED-PRINTABLE:

DTSTAMP:20260422T100057Z
DTSTART:20221014T190000Z
DTEND:20221014T150000Z
RECURRENCE-ID:20221014T193000Z
SEQUENCE:0
TRANSP:OPAQUE
END:VEVENT
END:VCALENDAR